BEGIN:VCALENDAR
VERSION:2.0
PRODID:spatie/icalendar-generator
NAME:Continued Learning Event
X-WR-CALNAME:Continued Learning Event
BEGIN:VTIMEZONE
TZID:America/New_York
BEGIN:STANDARD
DTSTART:20221106T010000
TZOFFSETFROM:-0400
TZOFFSETTO:-0500
END:STANDARD
BEGIN:DAYLIGHT
DTSTART:20230312T010000
TZOFFSETFROM:-0500
TZOFFSETTO:-0400
END:DAYLIGHT
BEGIN:STANDARD
DTSTART:20231105T010000
TZOFFSETFROM:-0400
TZOFFSETTO:-0500
END:STANDARD
END:VTIMEZONE
BEGIN:VTIMEZONE
TZID:UTC
BEGIN:STANDARD
DTSTART:20250724T104828
TZOFFSETFROM:+0000
TZOFFSETTO:+0000
END:STANDARD
END:VTIMEZONE
BEGIN:VEVENT
UID:69e6047c5c03f
DTSTAMP:20260420T104828Z
SUMMARY:Continued Learning Event
URL:https://production.sailamx.com/catalog/events/1267-continued-learning-e
 vent-2023-12-07
DTSTART;TZID=America/New_York:20230712T150000
DTEND;TZID=America/New_York:20230714T160000
END:VEVENT
END:VCALENDAR