BEGIN:VCALENDAR
VERSION:2.0
PRODID:spatie/icalendar-generator
NAME:Annual Meeting
X-WR-CALNAME:Annual Meeting
BEGIN:VTIMEZONE
TZID:America/New_York
BEGIN:STANDARD
DTSTART:20221106T010000
TZOFFSETFROM:-0400
TZOFFSETTO:-0500
END:STANDARD
BEGIN:DAYLIGHT
DTSTART:20230312T010000
TZOFFSETFROM:-0500
TZOFFSETTO:-0400
END:DAYLIGHT
BEGIN:STANDARD
DTSTART:20231105T010000
TZOFFSETFROM:-0400
TZOFFSETTO:-0500
END:STANDARD
END:VTIMEZONE
BEGIN:VTIMEZONE
TZID:UTC
BEGIN:STANDARD
DTSTART:20250724T105022
TZOFFSETFROM:+0000
TZOFFSETTO:+0000
END:STANDARD
END:VTIMEZONE
BEGIN:VEVENT
UID:69e604ee7be52
DTSTAMP:20260420T105022Z
SUMMARY:Annual Meeting
URL:https://production.sailamx.com/catalog/events/1265-annual-meeting-2023-
 30-06
DTSTART;TZID=America/New_York:20230630T150000
DTEND;TZID=America/New_York:20230630T160000
END:VEVENT
END:VCALENDAR